BEGIN:VCALENDAR
VERSION:2.0
PRODID:-//montessori valparaiso - ECPv6.15.20//NONSGML v1.0//EN
CALSCALE:GREGORIAN
METHOD:PUBLISH
X-WR-CALNAME:montessori valparaiso
X-ORIGINAL-URL:https://www.montessorivalparaiso.org/wawauta
X-WR-CALDESC:Eventos para montessori valparaiso
REFRESH-INTERVAL;VALUE=DURATION:PT1H
X-Robots-Tag:noindex
X-PUBLISHED-TTL:PT1H
BEGIN:VTIMEZONE
TZID:America/Sao_Paulo
BEGIN:STANDARD
TZOFFSETFROM:-0300
TZOFFSETTO:-0300
TZNAME:-03
DTSTART:20250101T000000
END:STANDARD
END:VTIMEZONE
BEGIN:VEVENT
DTSTART;VALUE=DATE:20260610
DTEND;VALUE=DATE:20260611
DTSTAMP:20260419T141427
CREATED:20251226T170330Z
LAST-MODIFIED:20251226T170521Z
UID:2479-1781049600-1781135999@www.montessorivalparaiso.org
SUMMARY:Última salida al Parque Quebrada Verde de la temporada
DESCRIPTION:Última salida al Parque Quebrada Verde de la temporada\, se retoma en primavera
URL:https://www.montessorivalparaiso.org/wawauta/eventos/ultima-salida-al-parque-quebrada-verde-de-la-temporada/
LOCATION:Parque Quebrada Verde\, Camino Ruta F-98\, valparaíso\, Chile
CATEGORIES:Taller Mayor,Taller Menor
END:VEVENT
BEGIN:VEVENT
DTSTART;VALUE=DATE:20260619
DTEND;VALUE=DATE:20260620
DTSTAMP:20260419T141427
CREATED:20251231T181044Z
LAST-MODIFIED:20251231T181044Z
UID:2516-1781827200-1781913599@www.montessorivalparaiso.org
SUMMARY:Wetripantu
DESCRIPTION:Día del solsticio de inverno
URL:https://www.montessorivalparaiso.org/wawauta/eventos/wetripantu/
CATEGORIES:General
END:VEVENT
BEGIN:VEVENT
DTSTART;VALUE=DATE:20260622
DTEND;VALUE=DATE:20260704
DTSTAMP:20260419T141427
CREATED:20251226T164833Z
LAST-MODIFIED:20251226T164833Z
UID:2476-1782086400-1783123199@www.montessorivalparaiso.org
SUMMARY:Vacaciones de invierno
DESCRIPTION:Receso de vacaciones de invierno
URL:https://www.montessorivalparaiso.org/wawauta/eventos/vacaciones-de-invierno-9/
CATEGORIES:Vacaciones
END:VEVENT
END:VCALENDAR