BEGIN:VCALENDAR
VERSION:2.0
PRODID:-//montessori valparaiso - ECPv6.15.20//NONSGML v1.0//EN
CALSCALE:GREGORIAN
METHOD:PUBLISH
X-WR-CALNAME:montessori valparaiso
X-ORIGINAL-URL:https://www.montessorivalparaiso.org/wawauta
X-WR-CALDESC:Eventos para montessori valparaiso
REFRESH-INTERVAL;VALUE=DURATION:PT1H
X-Robots-Tag:noindex
X-PUBLISHED-TTL:PT1H
BEGIN:VTIMEZONE
TZID:America/Sao_Paulo
BEGIN:STANDARD
TZOFFSETFROM:-0300
TZOFFSETTO:-0300
TZNAME:-03
DTSTART:20250101T000000
END:STANDARD
END:VTIMEZONE
BEGIN:VEVENT
DTSTART;TZID=America/Sao_Paulo:20260302T080000
DTEND;TZID=America/Sao_Paulo:20260302T080000
DTSTAMP:20260419T115039
CREATED:20251226T161832Z
LAST-MODIFIED:20251226T163211Z
UID:2467-1772438400-1772438400@www.montessorivalparaiso.org
SUMMARY:Ingreso de estudiantes antiguos
DESCRIPTION:Ingreso de estudiantes antiguos en todos los niveles. 8:00 hrs
URL:https://www.montessorivalparaiso.org/wawauta/eventos/ingreso-de-estudiantes-antiguos-3/
LOCATION:Escuela\, Av. Guillermo Münnich 733\, Valparaiso\, Valparaiso\, 2371680\, Chile
CATEGORIES:Taller Mayor,Taller Menor,Wawa Uta
END:VEVENT
BEGIN:VEVENT
DTSTART;TZID=America/Sao_Paulo:20260303T080000
DTEND;TZID=America/Sao_Paulo:20260303T080000
DTSTAMP:20260419T115039
CREATED:20251226T162757Z
LAST-MODIFIED:20251226T162757Z
UID:2468-1772524800-1772524800@www.montessorivalparaiso.org
SUMMARY:Ingreso de estudiantes nuevos
DESCRIPTION:Ingreso diferenciado de estudiantes nuevos de nivel en Wawa Uta y Taller menor.
URL:https://www.montessorivalparaiso.org/wawauta/eventos/ingreso-de-estudiantes-nuevos-2/
LOCATION:Escuela\, Av. Guillermo Münnich 733\, Valparaiso\, Valparaiso\, 2371680\, Chile
CATEGORIES:Taller Menor,Wawa Uta
END:VEVENT
BEGIN:VEVENT
DTSTART;VALUE=DATE:20260304
DTEND;VALUE=DATE:20260305
DTSTAMP:20260419T115039
CREATED:20251226T165722Z
LAST-MODIFIED:20251227T160134Z
UID:2478-1772582400-1772668799@www.montessorivalparaiso.org
SUMMARY:Inicio salidas Jardín Botánico Nacional / Parque Quebrada Verde
DESCRIPTION:Inicio de temporada de salidas al Jardín Botánico Nacional y al Parque Quebrada Verde semana por medio para Taller menor y mayor
URL:https://www.montessorivalparaiso.org/wawauta/eventos/inicio-salidas-jardin-botanico-nacional-parque-quebrada-verde/
LOCATION:Jardín Botánico Nacional\, Camino El Olivar 305\, Viña del Mar\, Valparaíso
CATEGORIES:General,Taller Mayor,Taller Menor
END:VEVENT
BEGIN:VEVENT
DTSTART;VALUE=DATE:20260311
DTEND;VALUE=DATE:20260312
DTSTAMP:20260419T115039
CREATED:20251226T163010Z
LAST-MODIFIED:20260302T214749Z
UID:2469-1773187200-1773273599@www.montessorivalparaiso.org
SUMMARY:Inicio de Cafetequeque
DESCRIPTION:Inicio de temporada de nuestra Cafetequeque
URL:https://www.montessorivalparaiso.org/wawauta/eventos/inicio-de-cafetequeque/
CATEGORIES:General
END:VEVENT
BEGIN:VEVENT
DTSTART;VALUE=DATE:20260327
DTEND;VALUE=DATE:20260328
DTSTAMP:20260419T115039
CREATED:20251226T163613Z
LAST-MODIFIED:20251226T163613Z
UID:2470-1774569600-1774655999@www.montessorivalparaiso.org
SUMMARY:Consejo de guías
DESCRIPTION:Consejo de guías. Estudiantes no asisten a clases
URL:https://www.montessorivalparaiso.org/wawauta/eventos/consejo-de-guias-18/
CATEGORIES:Consejo de Guias
END:VEVENT
END:VCALENDAR