BEGIN:VCALENDAR
VERSION:2.0
PRODID:-//montessori valparaiso - ECPv6.15.20//NONSGML v1.0//EN
CALSCALE:GREGORIAN
METHOD:PUBLISH
X-WR-CALNAME:montessori valparaiso
X-ORIGINAL-URL:https://www.montessorivalparaiso.org/wawauta
X-WR-CALDESC:Eventos para montessori valparaiso
REFRESH-INTERVAL;VALUE=DURATION:PT1H
X-Robots-Tag:noindex
X-PUBLISHED-TTL:PT1H
BEGIN:VTIMEZONE
TZID:America/Sao_Paulo
BEGIN:STANDARD
TZOFFSETFROM:-0300
TZOFFSETTO:-0300
TZNAME:-03
DTSTART:20240101T000000
END:STANDARD
END:VTIMEZONE
BEGIN:VEVENT
DTSTART;VALUE=DATE:20251001
DTEND;VALUE=DATE:20251002
DTSTAMP:20260421T075019
CREATED:20250206T184357Z
LAST-MODIFIED:20250206T184357Z
UID:2349-1759276800-1759363199@www.montessorivalparaiso.org
SUMMARY:Subida al Mauco
DESCRIPTION:Subida al cerro el Mauco
URL:https://www.montessorivalparaiso.org/wawauta/eventos/subida-al-mauco/
CATEGORIES:Taller Mayor,Taller Menor
END:VEVENT
BEGIN:VEVENT
DTSTART;VALUE=DATE:20251017
DTEND;VALUE=DATE:20251018
DTSTAMP:20260421T075019
CREATED:20250206T184835Z
LAST-MODIFIED:20250206T184835Z
UID:2350-1760659200-1760745599@www.montessorivalparaiso.org
SUMMARY:Día del Guía/Profesor
DESCRIPTION:Celebración del día del Guía. No hay actividades
URL:https://www.montessorivalparaiso.org/wawauta/eventos/dia-del-guia-profesor/
CATEGORIES:General
END:VEVENT
BEGIN:VEVENT
DTSTART;VALUE=DATE:20251024
DTEND;VALUE=DATE:20251025
DTSTAMP:20260421T075019
CREATED:20250206T185019Z
LAST-MODIFIED:20250206T185019Z
UID:2351-1761264000-1761350399@www.montessorivalparaiso.org
SUMMARY:Consejo de Guías
DESCRIPTION:Consejo de guías en todos los niveles. Estudiantes no asisten
URL:https://www.montessorivalparaiso.org/wawauta/eventos/consejo-de-guias-16/
CATEGORIES:Consejo de Guias
END:VEVENT
BEGIN:VEVENT
DTSTART;VALUE=DATE:20251031
DTEND;VALUE=DATE:20251101
DTSTAMP:20260421T075019
CREATED:20250206T185252Z
LAST-MODIFIED:20250206T185252Z
UID:2352-1761868800-1761955199@www.montessorivalparaiso.org
SUMMARY:Feriado
DESCRIPTION:Día nacional de las iglesias evangélicas
URL:https://www.montessorivalparaiso.org/wawauta/eventos/feriado-38/
CATEGORIES:Feriado
END:VEVENT
END:VCALENDAR