BEGIN:VCALENDAR
VERSION:2.0
PRODID:-//montessori valparaiso - ECPv6.15.20//NONSGML v1.0//EN
CALSCALE:GREGORIAN
METHOD:PUBLISH
X-WR-CALNAME:montessori valparaiso
X-ORIGINAL-URL:https://www.montessorivalparaiso.org/wawauta
X-WR-CALDESC:Eventos para montessori valparaiso
REFRESH-INTERVAL;VALUE=DURATION:PT1H
X-Robots-Tag:noindex
X-PUBLISHED-TTL:PT1H
BEGIN:VTIMEZONE
TZID:America/Sao_Paulo
BEGIN:STANDARD
TZOFFSETFROM:-0300
TZOFFSETTO:-0300
TZNAME:-03
DTSTART:20230101T000000
END:STANDARD
END:VTIMEZONE
BEGIN:VEVENT
DTSTART;VALUE=DATE:20240913
DTEND;VALUE=DATE:20240914
DTSTAMP:20260425T141245
CREATED:20231223T160215Z
LAST-MODIFIED:20231223T160215Z
UID:2217-1726185600-1726271999@www.montessorivalparaiso.org
SUMMARY:Aniversario de la Escuela Montessori de Valparaíso
DESCRIPTION:Celebración del 14° aniversario de nuestra Escuela Montessori de Valparaíso. Realización de la ramada oficial y muestra de bailes
URL:https://www.montessorivalparaiso.org/wawauta/eventos/aniversario-de-la-escuela-montessori-de-valparaiso/
CATEGORIES:Administración
END:VEVENT
BEGIN:VEVENT
DTSTART;VALUE=DATE:20240916
DTEND;VALUE=DATE:20240921
DTSTAMP:20260425T141245
CREATED:20231223T160343Z
LAST-MODIFIED:20231223T160343Z
UID:2218-1726444800-1726876799@www.montessorivalparaiso.org
SUMMARY:Vacaciones de primavera
DESCRIPTION:Vacaciones de primevera
URL:https://www.montessorivalparaiso.org/wawauta/eventos/vacaciones-de-primavera-2/
CATEGORIES:Vacaciones
END:VEVENT
BEGIN:VEVENT
DTSTART;VALUE=DATE:20240927
DTEND;VALUE=DATE:20240928
DTSTAMP:20260425T141245
CREATED:20231223T161643Z
LAST-MODIFIED:20231223T161643Z
UID:2220-1727395200-1727481599@www.montessorivalparaiso.org
SUMMARY:Consejo de guías
DESCRIPTION:Consejo de guías. Jornada sin actividades para estudiantes en todos los niveles.
URL:https://www.montessorivalparaiso.org/wawauta/eventos/consejo-de-guias-10/
CATEGORIES:Consejo de guías
END:VEVENT
END:VCALENDAR