BEGIN:VCALENDAR
VERSION:2.0
PRODID:-//montessori valparaiso - ECPv6.15.20//NONSGML v1.0//EN
CALSCALE:GREGORIAN
METHOD:PUBLISH
X-WR-CALNAME:montessori valparaiso
X-ORIGINAL-URL:https://www.montessorivalparaiso.org/wawauta
X-WR-CALDESC:Eventos para montessori valparaiso
REFRESH-INTERVAL;VALUE=DURATION:PT1H
X-Robots-Tag:noindex
X-PUBLISHED-TTL:PT1H
BEGIN:VTIMEZONE
TZID:America/Sao_Paulo
BEGIN:STANDARD
TZOFFSETFROM:-0300
TZOFFSETTO:-0300
TZNAME:-03
DTSTART:20230101T000000
END:STANDARD
END:VTIMEZONE
BEGIN:VEVENT
DTSTART;TZID=America/Sao_Paulo:20240413T090000
DTEND;TZID=America/Sao_Paulo:20240413T130000
DTSTAMP:20260425T212159
CREATED:20231223T161411Z
LAST-MODIFIED:20231223T161411Z
UID:2219-1712998800-1713013200@www.montessorivalparaiso.org
SUMMARY:Jornada Montessori para Familias
DESCRIPTION:Montessori para Familias. Una jornada especialmente diseñada para que madres\, padres y cuidadores para que puedan aprender y reflexionar sobre la educación Montessori y como apoyar a sus hijas e hijos.
URL:https://www.montessorivalparaiso.org/wawauta/eventos/jornada-montessori-para-familias-3/
LOCATION:Escuela\, Av. Guillermo Münnich 733\, Valparaiso\, Valparaiso\, 2371680\, Chile
CATEGORIES:Jornada Montessori
END:VEVENT
BEGIN:VEVENT
DTSTART;VALUE=DATE:20240426
DTEND;VALUE=DATE:20240427
DTSTAMP:20260425T212159
CREATED:20231223T141900Z
LAST-MODIFIED:20231223T155730Z
UID:2202-1714089600-1714175999@www.montessorivalparaiso.org
SUMMARY:Consejo de Guias
DESCRIPTION:Consejo de guías de todos los niveles. Día sin actividades para los estudiantes
URL:https://www.montessorivalparaiso.org/wawauta/eventos/consejo-de-guias-7/
CATEGORIES:Consejo de guías
END:VEVENT
END:VCALENDAR