BEGIN:VCALENDAR
VERSION:2.0
PRODID:-//montessori valparaiso - ECPv6.15.20//NONSGML v1.0//EN
CALSCALE:GREGORIAN
METHOD:PUBLISH
X-WR-CALNAME:montessori valparaiso
X-ORIGINAL-URL:https://www.montessorivalparaiso.org/wawauta
X-WR-CALDESC:Eventos para montessori valparaiso
REFRESH-INTERVAL;VALUE=DURATION:PT1H
X-Robots-Tag:noindex
X-PUBLISHED-TTL:PT1H
BEGIN:VTIMEZONE
TZID:America/Sao_Paulo
BEGIN:STANDARD
TZOFFSETFROM:-0300
TZOFFSETTO:-0300
TZNAME:-03
DTSTART:20250101T000000
END:STANDARD
END:VTIMEZONE
BEGIN:VEVENT
DTSTART;VALUE=DATE:20260923
DTEND;VALUE=DATE:20260924
DTSTAMP:20260421T095232
CREATED:20251226T182056Z
LAST-MODIFIED:20251226T182056Z
UID:2485-1790121600-1790207999@www.montessorivalparaiso.org
SUMMARY:Subida cerro El Mauco
DESCRIPTION:Trekking de ascenso al Cerro el Mauco
URL:https://www.montessorivalparaiso.org/wawauta/eventos/subida-cerro-el-mauco-2/
CATEGORIES:Taller Mayor,Taller Menor
END:VEVENT
END:VCALENDAR