BEGIN:VCALENDAR
VERSION:2.0
PRODID:-//montessori valparaiso - ECPv6.15.20//NONSGML v1.0//EN
CALSCALE:GREGORIAN
METHOD:PUBLISH
X-WR-CALNAME:montessori valparaiso
X-ORIGINAL-URL:https://www.montessorivalparaiso.org/wawauta
X-WR-CALDESC:Eventos para montessori valparaiso
REFRESH-INTERVAL;VALUE=DURATION:PT1H
X-Robots-Tag:noindex
X-PUBLISHED-TTL:PT1H
BEGIN:VTIMEZONE
TZID:America/Sao_Paulo
BEGIN:STANDARD
TZOFFSETFROM:-0300
TZOFFSETTO:-0300
TZNAME:-03
DTSTART:20250101T000000
END:STANDARD
END:VTIMEZONE
BEGIN:VEVENT
DTSTART;VALUE=DATE:20260914
DTEND;VALUE=DATE:20260919
DTSTAMP:20260420T002833
CREATED:20251226T181716Z
LAST-MODIFIED:20251226T181716Z
UID:2484-1789344000-1789775999@www.montessorivalparaiso.org
SUMMARY:Vacaciones de primavera
DESCRIPTION:Receso de vacaciones de primavera
URL:https://www.montessorivalparaiso.org/wawauta/eventos/vacaciones-de-primavera-4/
CATEGORIES:Vacaciones
END:VEVENT
END:VCALENDAR