BEGIN:VCALENDAR
VERSION:2.0
PRODID:-//montessori valparaiso - ECPv6.15.20//NONSGML v1.0//EN
CALSCALE:GREGORIAN
METHOD:PUBLISH
X-WR-CALNAME:montessori valparaiso
X-ORIGINAL-URL:https://www.montessorivalparaiso.org/wawauta
X-WR-CALDESC:Eventos para montessori valparaiso
REFRESH-INTERVAL;VALUE=DURATION:PT1H
X-Robots-Tag:noindex
X-PUBLISHED-TTL:PT1H
BEGIN:VTIMEZONE
TZID:America/Sao_Paulo
BEGIN:STANDARD
TZOFFSETFROM:-0300
TZOFFSETTO:-0300
TZNAME:-03
DTSTART:20250101T000000
END:STANDARD
END:VTIMEZONE
BEGIN:VEVENT
DTSTART;VALUE=DATE:20260610
DTEND;VALUE=DATE:20260611
DTSTAMP:20260419T155041
CREATED:20251226T170330Z
LAST-MODIFIED:20251226T170521Z
UID:2479-1781049600-1781135999@www.montessorivalparaiso.org
SUMMARY:Última salida al Parque Quebrada Verde de la temporada
DESCRIPTION:Última salida al Parque Quebrada Verde de la temporada\, se retoma en primavera
URL:https://www.montessorivalparaiso.org/wawauta/eventos/ultima-salida-al-parque-quebrada-verde-de-la-temporada/
LOCATION:Parque Quebrada Verde\, Camino Ruta F-98\, valparaíso\, Chile
CATEGORIES:Taller Mayor,Taller Menor
END:VEVENT
END:VCALENDAR