BEGIN:VCALENDAR
VERSION:2.0
PRODID:-//montessori valparaiso - ECPv6.15.20//NONSGML v1.0//EN
CALSCALE:GREGORIAN
METHOD:PUBLISH
X-ORIGINAL-URL:https://www.montessorivalparaiso.org/wawauta
X-WR-CALDESC:Eventos para montessori valparaiso
REFRESH-INTERVAL;VALUE=DURATION:PT1H
X-Robots-Tag:noindex
X-PUBLISHED-TTL:PT1H
BEGIN:VTIMEZONE
TZID:America/Sao_Paulo
BEGIN:STANDARD
TZOFFSETFROM:-0300
TZOFFSETTO:-0300
TZNAME:-03
DTSTART:20250101T000000
END:STANDARD
END:VTIMEZONE
BEGIN:VEVENT
DTSTART;TZID=America/Sao_Paulo:20260226T180000
DTEND;TZID=America/Sao_Paulo:20260226T193000
DTSTAMP:20260419T140419
CREATED:20251226T161519Z
LAST-MODIFIED:20251226T161519Z
UID:2466-1772128800-1772134200@www.montessorivalparaiso.org
SUMMARY:Bienvenida a las familias
DESCRIPTION:Reunión de bienvenida a las familias de todos los niveles. Se informan los detalles de la programación escolar 2026.
URL:https://www.montessorivalparaiso.org/wawauta/eventos/bienvenida-a-las-familias/
LOCATION:Escuela\, Av. Guillermo Münnich 733\, Valparaiso\, Valparaiso\, 2371680\, Chile
CATEGORIES:Taller Mayor,Taller Menor,Wawa Uta
END:VEVENT
END:VCALENDAR