BEGIN:VCALENDAR
VERSION:2.0
PRODID:-//montessori valparaiso - ECPv6.15.20//NONSGML v1.0//EN
CALSCALE:GREGORIAN
METHOD:PUBLISH
X-ORIGINAL-URL:https://www.montessorivalparaiso.org/wawauta
X-WR-CALDESC:Eventos para montessori valparaiso
REFRESH-INTERVAL;VALUE=DURATION:PT1H
X-Robots-Tag:noindex
X-PUBLISHED-TTL:PT1H
BEGIN:VTIMEZONE
TZID:America/Sao_Paulo
BEGIN:STANDARD
TZOFFSETFROM:-0300
TZOFFSETTO:-0300
TZNAME:-03
DTSTART:20240101T000000
END:STANDARD
END:VTIMEZONE
BEGIN:VEVENT
DTSTART;VALUE=DATE:20250908
DTEND;VALUE=DATE:20250913
DTSTAMP:20260421T113852
CREATED:20250206T183939Z
LAST-MODIFIED:20250206T183939Z
UID:2347-1757289600-1757721599@www.montessorivalparaiso.org
SUMMARY:Semana de aniversario de la Escuela
DESCRIPTION:Semana de celebración de los 15 años de nuestra escuela
URL:https://www.montessorivalparaiso.org/wawauta/eventos/semana-de-aniversario-de-la-escuela/
CATEGORIES:General
END:VEVENT
END:VCALENDAR