BEGIN:VCALENDAR
VERSION:2.0
PRODID:-//montessori valparaiso - ECPv6.15.20//NONSGML v1.0//EN
CALSCALE:GREGORIAN
METHOD:PUBLISH
X-WR-CALNAME:montessori valparaiso
X-ORIGINAL-URL:https://www.montessorivalparaiso.org/wawauta
X-WR-CALDESC:Eventos para montessori valparaiso
REFRESH-INTERVAL;VALUE=DURATION:PT1H
X-Robots-Tag:noindex
X-PUBLISHED-TTL:PT1H
BEGIN:VTIMEZONE
TZID:America/Sao_Paulo
BEGIN:STANDARD
TZOFFSETFROM:-0300
TZOFFSETTO:-0300
TZNAME:-03
DTSTART:20240101T000000
END:STANDARD
END:VTIMEZONE
BEGIN:VEVENT
DTSTART;VALUE=DATE:20250203
DTEND;VALUE=DATE:20250204
DTSTAMP:20260425T073335
CREATED:20241230T202125Z
LAST-MODIFIED:20241230T202125Z
UID:2311-1738540800-1738627199@www.montessorivalparaiso.org
SUMMARY:Retorno de Vacaciones Equipo
DESCRIPTION:Inicio de actividades para el equipo y preparación de salones para año 2025
URL:https://www.montessorivalparaiso.org/wawauta/eventos/retorno-de-vacaciones-equipo-2/
CATEGORIES:General,Taller Mayor,Taller Menor,Wawa Uta
END:VEVENT
END:VCALENDAR