BEGIN:VCALENDAR
VERSION:2.0
PRODID:-//montessori valparaiso - ECPv6.15.20//NONSGML v1.0//EN
CALSCALE:GREGORIAN
METHOD:PUBLISH
X-WR-CALNAME:montessori valparaiso
X-ORIGINAL-URL:https://www.montessorivalparaiso.org/wawauta
X-WR-CALDESC:Eventos para montessori valparaiso
REFRESH-INTERVAL;VALUE=DURATION:PT1H
X-Robots-Tag:noindex
X-PUBLISHED-TTL:PT1H
BEGIN:VTIMEZONE
TZID:America/Sao_Paulo
BEGIN:STANDARD
TZOFFSETFROM:-0300
TZOFFSETTO:-0300
TZNAME:-03
DTSTART:20230101T000000
END:STANDARD
END:VTIMEZONE
BEGIN:VEVENT
DTSTART;VALUE=DATE:20241206
DTEND;VALUE=DATE:20241207
DTSTAMP:20260425T110842
CREATED:20231223T164426Z
LAST-MODIFIED:20231223T164426Z
UID:2229-1733443200-1733529599@www.montessorivalparaiso.org
SUMMARY:Acto de Graduación
DESCRIPTION:Jornada de cierre del año escolar. Acto de graduación para estudiantes de Taller y Wawa Uta
URL:https://www.montessorivalparaiso.org/wawauta/eventos/acto-de-graduacion/
CATEGORIES:Administración,General,Taller Mayor,Taller Menor,Wawa Uta
END:VEVENT
END:VCALENDAR