BEGIN:VCALENDAR
VERSION:2.0
PRODID:-//montessori valparaiso - ECPv6.15.20//NONSGML v1.0//EN
CALSCALE:GREGORIAN
METHOD:PUBLISH
X-WR-CALNAME:montessori valparaiso
X-ORIGINAL-URL:https://www.montessorivalparaiso.org/wawauta
X-WR-CALDESC:Eventos para montessori valparaiso
REFRESH-INTERVAL;VALUE=DURATION:PT1H
X-Robots-Tag:noindex
X-PUBLISHED-TTL:PT1H
BEGIN:VTIMEZONE
TZID:America/Sao_Paulo
BEGIN:STANDARD
TZOFFSETFROM:-0300
TZOFFSETTO:-0300
TZNAME:-03
DTSTART:20230101T000000
END:STANDARD
END:VTIMEZONE
BEGIN:VEVENT
DTSTART;VALUE=DATE:20241128
DTEND;VALUE=DATE:20241130
DTSTAMP:20260425T110840
CREATED:20231223T164022Z
LAST-MODIFIED:20231223T164022Z
UID:2227-1732752000-1732924799@www.montessorivalparaiso.org
SUMMARY:Campamento 2024
DESCRIPTION:Campamento anual para taller menor y mayor
URL:https://www.montessorivalparaiso.org/wawauta/eventos/campamento-2024/
LOCATION:Hacienda Cuatro Hermanos\, Hacienda 4 Hermanos\, Limache\, Chile
CATEGORIES:Taller Mayor,Taller Menor
END:VEVENT
END:VCALENDAR