BEGIN:VCALENDAR
VERSION:2.0
PRODID:-//montessori valparaiso - ECPv6.15.20//NONSGML v1.0//EN
CALSCALE:GREGORIAN
METHOD:PUBLISH
X-ORIGINAL-URL:https://www.montessorivalparaiso.org/wawauta
X-WR-CALDESC:Eventos para montessori valparaiso
REFRESH-INTERVAL;VALUE=DURATION:PT1H
X-Robots-Tag:noindex
X-PUBLISHED-TTL:PT1H
BEGIN:VTIMEZONE
TZID:America/Sao_Paulo
BEGIN:STANDARD
TZOFFSETFROM:-0300
TZOFFSETTO:-0300
TZNAME:-03
DTSTART:20230101T000000
END:STANDARD
END:VTIMEZONE
BEGIN:VEVENT
DTSTART;VALUE=DATE:20241118
DTEND;VALUE=DATE:20241119
DTSTAMP:20260425T125100
CREATED:20231223T164910Z
LAST-MODIFIED:20231223T164910Z
UID:2231-1731888000-1731974399@www.montessorivalparaiso.org
SUMMARY:Fotografía de fin de año
DESCRIPTION:Realización de la fotografía de finde año en todos los niveles
URL:https://www.montessorivalparaiso.org/wawauta/eventos/fotografia-de-fin-de-ano/
CATEGORIES:Taller Mayor,Taller Menor,Wawa Uta
END:VEVENT
END:VCALENDAR