BEGIN:VCALENDAR
VERSION:2.0
PRODID:-//montessori valparaiso - ECPv6.15.20//NONSGML v1.0//EN
CALSCALE:GREGORIAN
METHOD:PUBLISH
X-ORIGINAL-URL:https://www.montessorivalparaiso.org/wawauta
X-WR-CALDESC:Eventos para montessori valparaiso
REFRESH-INTERVAL;VALUE=DURATION:PT1H
X-Robots-Tag:noindex
X-PUBLISHED-TTL:PT1H
BEGIN:VTIMEZONE
TZID:America/Sao_Paulo
BEGIN:STANDARD
TZOFFSETFROM:-0300
TZOFFSETTO:-0300
TZNAME:-03
DTSTART:20230101T000000
END:STANDARD
END:VTIMEZONE
BEGIN:VEVENT
DTSTART;VALUE=DATE:20241031
DTEND;VALUE=DATE:20241101
DTSTAMP:20260425T125041
CREATED:20231223T163127Z
LAST-MODIFIED:20241011T105647Z
UID:2224-1730332800-1730419199@www.montessorivalparaiso.org
SUMMARY:Feriado
DESCRIPTION:Día de las Iglesias Evangélicas y Protestantes
URL:https://www.montessorivalparaiso.org/wawauta/eventos/feriado-31/
CATEGORIES:Feriado
END:VEVENT
END:VCALENDAR