BEGIN:VCALENDAR
VERSION:2.0
PRODID:-//montessori valparaiso - ECPv6.15.20//NONSGML v1.0//EN
CALSCALE:GREGORIAN
METHOD:PUBLISH
X-ORIGINAL-URL:https://www.montessorivalparaiso.org/wawauta
X-WR-CALDESC:Eventos para montessori valparaiso
REFRESH-INTERVAL;VALUE=DURATION:PT1H
X-Robots-Tag:noindex
X-PUBLISHED-TTL:PT1H
BEGIN:VTIMEZONE
TZID:America/Sao_Paulo
BEGIN:STANDARD
TZOFFSETFROM:-0300
TZOFFSETTO:-0300
TZNAME:-03
DTSTART:20230101T000000
END:STANDARD
END:VTIMEZONE
BEGIN:VEVENT
DTSTART;VALUE=DATE:20241025
DTEND;VALUE=DATE:20241026
DTSTAMP:20260425T141434
CREATED:20241011T105917Z
LAST-MODIFIED:20241011T105917Z
UID:2304-1729814400-1729900799@www.montessorivalparaiso.org
SUMMARY:Consejo de guias
DESCRIPTION:Consejo de Guias de todos los niveles. Día sin actividades para los estudiantes
URL:https://www.montessorivalparaiso.org/wawauta/eventos/consejo-de-guias-11/
CATEGORIES:Consejo de guías
END:VEVENT
END:VCALENDAR