BEGIN:VCALENDAR
VERSION:2.0
PRODID:-//montessori valparaiso - ECPv6.15.20//NONSGML v1.0//EN
CALSCALE:GREGORIAN
METHOD:PUBLISH
X-WR-CALNAME:montessori valparaiso
X-ORIGINAL-URL:https://www.montessorivalparaiso.org/wawauta
X-WR-CALDESC:Eventos para montessori valparaiso
REFRESH-INTERVAL;VALUE=DURATION:PT1H
X-Robots-Tag:noindex
X-PUBLISHED-TTL:PT1H
BEGIN:VTIMEZONE
TZID:America/Sao_Paulo
BEGIN:STANDARD
TZOFFSETFROM:-0300
TZOFFSETTO:-0300
TZNAME:-03
DTSTART:20230101T000000
END:STANDARD
END:VTIMEZONE
BEGIN:VEVENT
DTSTART;VALUE=DATE:20240708
DTEND;VALUE=DATE:20240709
DTSTAMP:20260425T183850
CREATED:20231223T154537Z
LAST-MODIFIED:20231223T154537Z
UID:2212-1720396800-1720483199@www.montessorivalparaiso.org
SUMMARY:Retorno de vacaciones
DESCRIPTION:Ingreso de todos los estudiantes a los salones en cada nivel.
URL:https://www.montessorivalparaiso.org/wawauta/eventos/retorno-de-vacaciones/
CATEGORIES:Taller Mayor,Taller Menor,Wawa Uta
END:VEVENT
END:VCALENDAR